BEGIN:VCALENDAR
VERSION:2.0
PRODID:-//ExhibitionMatches.com//NONSGML v1.0//EN
BEGIN:VEVENT
UID=B47BC276-9A77-7A25-8F517175ECB52805
DTSTAMP=20260425T102611Z
DTSTART;VALUE=DATE:20260509
DTEND;VALUE=DATE:20260511
SUMMARY:Team Ga Freestyle &amp; Greco State
LOCATION:Lumpkin County High School, 2001 Indian Drive, Dahlonega, GA, 30533
DESCRIPTION:View full event details: https://wrestlingtournaments.org/view.cfm?ID=107184
Contact: Bobbi Corcoran scott@teamgawrestling.org
URL;VALUE=URI:https://wrestlingtournaments.org/view.cfm?ID=107184
END:VEVENT
END:VCALENDAR