BEGIN:VCALENDAR
VERSION:2.0
PRODID:-//ExhibitionMatches.com//NONSGML v1.0//EN
BEGIN:VEVENT
UID=B4581E7B-DA8E-E20E-B23DAA07ABD94B00
DTSTAMP=20260425T102217Z
DTSTART;VALUE=DATE:20260502
DTEND;VALUE=DATE:20260503
SUMMARY:AAU-Apalachee H.S / M.S War Zone
LOCATION:Apalachee High School, 940 Haymon Morris Rd, Winder, GA, 30680
DESCRIPTION:View full event details: https://wrestlingtournaments.org/view.cfm?ID=107162

URL;VALUE=URI:https://wrestlingtournaments.org/view.cfm?ID=107162
END:VEVENT
END:VCALENDAR