BEGIN:VCALENDAR
VERSION:2.0
PRODID:-//ExhibitionMatches.com//NONSGML v1.0//EN
BEGIN:VEVENT
UID=B489353F-DDD3-AE5B-2A115B783A9F7326
DTSTAMP=20260425T102739Z
DTSTART;VALUE=DATE:20260502
DTEND;VALUE=DATE:20260503
SUMMARY:SEGA FRECO Showdown
LOCATION:Statesboro High School Gymnasium, 10 Coach Lee Hill Boulevard, Statesboro, GA, 30458
DESCRIPTION:View full event details: https://wrestlingtournaments.org/view.cfm?ID=107159
Contact: Kevin Waters kevinwaters6171@gmail.com
URL;VALUE=URI:https://wrestlingtournaments.org/view.cfm?ID=107159
END:VEVENT
END:VCALENDAR