BEGIN:VCALENDAR
VERSION:2.0
PRODID:-//ExhibitionMatches.com//NONSGML v1.0//EN
BEGIN:VEVENT
UID=B3C9FA1F-0384-EB7C-96B6AAB73C3B3A14
DTSTAMP=20260425T100645Z
DTSTART;VALUE=DATE:20260724
DTEND;VALUE=DATE:20260725
SUMMARY:2026 Backyard Brawl Individual
LOCATION:Cobb Convention Center (Cobb Galleria Centre), 2 Galleria Parkway Southeast, Atlanta, GA, 30339
DESCRIPTION:View full event details: https://wrestlingtournaments.org/view.cfm?ID=107101

URL;VALUE=URI:https://wrestlingtournaments.org/view.cfm?ID=107101
END:VEVENT
END:VCALENDAR